BEGIN:VCALENDAR
VERSION:2.0
PRODID:-//Obra Cultural Balear - ECPv6.15.20//NONSGML v1.0//EN
CALSCALE:GREGORIAN
METHOD:PUBLISH
X-ORIGINAL-URL:https://ocb.cat
X-WR-CALDESC:Esdeveniments per Obra Cultural Balear
REFRESH-INTERVAL;VALUE=DURATION:PT1H
X-Robots-Tag:noindex
X-PUBLISHED-TTL:PT1H
BEGIN:VTIMEZONE
TZID:Europe/Madrid
BEGIN:DAYLIGHT
TZOFFSETFROM:+0100
TZOFFSETTO:+0200
TZNAME:CEST
DTSTART:20240331T010000
END:DAYLIGHT
BEGIN:STANDARD
TZOFFSETFROM:+0200
TZOFFSETTO:+0100
TZNAME:CET
DTSTART:20241027T010000
END:STANDARD
BEGIN:DAYLIGHT
TZOFFSETFROM:+0100
TZOFFSETTO:+0200
TZNAME:CEST
DTSTART:20250330T010000
END:DAYLIGHT
BEGIN:STANDARD
TZOFFSETFROM:+0200
TZOFFSETTO:+0100
TZNAME:CET
DTSTART:20251026T010000
END:STANDARD
BEGIN:DAYLIGHT
TZOFFSETFROM:+0100
TZOFFSETTO:+0200
TZNAME:CEST
DTSTART:20260329T010000
END:DAYLIGHT
BEGIN:STANDARD
TZOFFSETFROM:+0200
TZOFFSETTO:+0100
TZNAME:CET
DTSTART:20261025T010000
END:STANDARD
END:VTIMEZONE
BEGIN:VEVENT
DTSTART;TZID=Europe/Madrid:20251103T160000
DTEND;TZID=Europe/Madrid:20251103T180000
DTSTAMP:20260420T052830
CREATED:20251023T100238Z
LAST-MODIFIED:20251028T092619Z
UID:31972-1762185600-1762192800@ocb.cat
SUMMARY:Taller de neules - Tots Plegats
DESCRIPTION:Seu de l’OCB de Maria de la Salut (Plaça de Dalt\, s/n)
URL:https://ocb.cat/activitat/taller-de-neules-tots-plegats/
CATEGORIES:Obra Cultural Balear,Tots Plegats
ATTACH;FMTTYPE=image/png:https://ocb.cat/wp-content/uploads/2025/10/Tots-Plegats-2025-activitats-1.png
END:VEVENT
END:VCALENDAR