BEGIN:VCALENDAR
VERSION:2.0
PRODID:-//Obra Cultural Balear - ECPv6.15.20//NONSGML v1.0//EN
CALSCALE:GREGORIAN
METHOD:PUBLISH
X-WR-CALNAME:Obra Cultural Balear
X-ORIGINAL-URL:https://ocb.cat
X-WR-CALDESC:Esdeveniments per Obra Cultural Balear
REFRESH-INTERVAL;VALUE=DURATION:PT1H
X-Robots-Tag:noindex
X-PUBLISHED-TTL:PT1H
BEGIN:VTIMEZONE
TZID:Europe/Madrid
BEGIN:DAYLIGHT
TZOFFSETFROM:+0100
TZOFFSETTO:+0200
TZNAME:CEST
DTSTART:20240331T010000
END:DAYLIGHT
BEGIN:STANDARD
TZOFFSETFROM:+0200
TZOFFSETTO:+0100
TZNAME:CET
DTSTART:20241027T010000
END:STANDARD
BEGIN:DAYLIGHT
TZOFFSETFROM:+0100
TZOFFSETTO:+0200
TZNAME:CEST
DTSTART:20250330T010000
END:DAYLIGHT
BEGIN:STANDARD
TZOFFSETFROM:+0200
TZOFFSETTO:+0100
TZNAME:CET
DTSTART:20251026T010000
END:STANDARD
BEGIN:DAYLIGHT
TZOFFSETFROM:+0100
TZOFFSETTO:+0200
TZNAME:CEST
DTSTART:20260329T010000
END:DAYLIGHT
BEGIN:STANDARD
TZOFFSETFROM:+0200
TZOFFSETTO:+0100
TZNAME:CET
DTSTART:20261025T010000
END:STANDARD
END:VTIMEZONE
BEGIN:VEVENT
DTSTART;TZID=Europe/Madrid:20251122T163000
DTEND;TZID=Europe/Madrid:20251122T190000
DTSTAMP:20260420T052537
CREATED:20251112T083743Z
LAST-MODIFIED:20251112T084732Z
UID:32320-1763829000-1763838000@ocb.cat
SUMMARY:Taller de torró
DESCRIPTION:Maria de la Salut – Local de l’OCB (Plaça de Dalt\, s/n) \nEls participants han de dur el seu motlo. \nMés informació i inscripcions a www.ocb.cat/totsplegats
URL:https://ocb.cat/activitat/taller-de-torro-2/
CATEGORIES:OCB Maria de la Salut,Tots Plegats
ATTACH;FMTTYPE=image/png:https://ocb.cat/wp-content/uploads/2025/11/Tots-Plegats-2025-activitats-3.png
END:VEVENT
END:VCALENDAR